BEGIN:VCALENDAR
VERSION:2.0
PRODID:-//Trekanten - ECPv6.15.20//NONSGML v1.0//EN
CALSCALE:GREGORIAN
METHOD:PUBLISH
X-ORIGINAL-URL:https://trekanten.info
X-WR-CALDESC:Begivenheder for Trekanten
REFRESH-INTERVAL;VALUE=DURATION:PT1H
X-Robots-Tag:noindex
X-PUBLISHED-TTL:PT1H
BEGIN:VTIMEZONE
TZID:UTC
BEGIN:STANDARD
TZOFFSETFROM:+0000
TZOFFSETTO:+0000
TZNAME:UTC
DTSTART:20240101T000000
END:STANDARD
END:VTIMEZONE
BEGIN:VEVENT
DTSTART;TZID=UTC:20250802T100000
DTEND;TZID=UTC:20250802T130000
DTSTAMP:20260421T135528
CREATED:20250704T122035Z
LAST-MODIFIED:20260304T082536Z
UID:10002337-1754128800-1754139600@trekanten.info
SUMMARY:Repair Café på Trekanten
DESCRIPTION:Repair Cafe er et fællesskabsprojekt\, som faciliterer sted og udstyr\, hvor fixere og brugere samarbejder om at reparere brugernes ting som ellers ville være kasseret. \nFixere arbejder frivilligt\, ulønnet og under egen instruktion. Der er ikke penge eller anden betaling eller forpligtelser involveret. \nFixere forsøger at reparere de indleverede genstande\, men kan ikke holdes ansvarlig for det endelige resultat. \nVi gør opmærksom på\, at det indleverede kan blive returneret i samme eller forværret stand. \nFixere kan ikke forventes at have nogen faglig uddannelse eller ekspertise. \nFormålet i Repair Cafe Danmark er at reducere affald\, ændre forbrugsmønstre og skabe viden om og lyst til grøn omstilling. Det gør vi bl.a. på lokale non-profit reparationscafeer\, ved at vise forbrugerne at det er muligt at reparere ting\, frem for bare at kassere og købe nyt. Repair Cafe Danmark påvirker altså i praksis forbrugernes tankegang om cirkulær økonomi.
URL:https://trekanten.info/event/repair-cafe-paa-trekanten/2025-08-02/
LOCATION:Trekanten
CATEGORIES:Workshop
ATTACH;FMTTYPE=image/png:https://trekanten.info/wp-content/uploads/2025/07/Repair-cafe1.png
ORGANIZER;CN="| Trekanten%2C bibliotek & kulturhus |":MAILTO:trekanten@aalborg.dk
END:VEVENT
BEGIN:VEVENT
DTSTART;TZID=UTC:20250730T160000
DTEND;TZID=UTC:20250730T180000
DTSTAMP:20260421T135528
CREATED:20250704T124454Z
LAST-MODIFIED:20251126T123741Z
UID:10002402-1753891200-1753898400@trekanten.info
SUMMARY:Vi broderer sammen - på Trekanten
DESCRIPTION:Broderifællesskabet er for alle\, uanset om du har gang i det helt store kreative projekt eller om du er helt ny med nål og tråd. \nDet handler ikke om\, om man broderer grimt eller pænt. Og det har ingen betydning\, om du broderer for at lappe dit tøj\, eller om du broderer på et billede. \nDet handler derimod om at hygge sig\, inspirere og hjælpe hinanden – med afsæt i broderi. \nDu kan selv medbringe broderigrej – men vi har også et lille depot af materialer til at starte på. \nVi mødes klokken 16-18 i Mini-Makerspace ved biblioteket hver anden onsdag i ulige uger. \nHvis du har spørgsmål\, så skriv gerne i vores broderigruppe på Facebook. \nSe evt. her: Vi broderer sammen – på Trekanten | Aalborg Bibliotekerne
URL:https://trekanten.info/event/vi-broderer-sammen-paa-trekanten/2025-07-30/
LOCATION:Trekanten
CATEGORIES:Workshop
ATTACH;FMTTYPE=image/jpeg:https://trekanten.info/wp-content/uploads/2024/12/broderi3.jpg
ORGANIZER;CN="| Trekanten%2C bibliotek & kulturhus |":MAILTO:trekanten@aalborg.dk
END:VEVENT
BEGIN:VEVENT
DTSTART;TZID=UTC:20250729T130000
DTEND;TZID=UTC:20250729T150000
DTSTAMP:20260421T135528
CREATED:20250704T111417Z
LAST-MODIFIED:20251126T123534Z
UID:10001552-1753794000-1753801200@trekanten.info
SUMMARY:Krea med Tine hver tirsdag
DESCRIPTION:Hver Tirsdag klokken 13 – 15 i MiniMakerspace holder Tine Kreativ workshop i Trekanten Mini -Makerspace.\nDet er lige overfor biblioteket.\nAlle er velkomne og det er gratis at deltage.\nDu kan vælge at arbejde sammen med andre\, eller i fred og ro for dig selv i “Solsikkehjørnet”.\nDer er masser af materialer på stedet\, det eneste du skal gøre er\, at dukke op.\nGratis – ingen tilmelding
URL:https://trekanten.info/event/krea-med-tine-hver-tirsdag/2025-07-29/
LOCATION:Trekanten
CATEGORIES:Workshop
ATTACH;FMTTYPE=image/jpeg:https://trekanten.info/wp-content/uploads/2025/07/Tine-2-scaled1.jpg
ORGANIZER;CN="| Trekanten%2C bibliotek & kulturhus |":MAILTO:trekanten@aalborg.dk
END:VEVENT
BEGIN:VEVENT
DTSTART;TZID=UTC:20250701T130000
DTEND;TZID=UTC:20250701T150000
DTSTAMP:20260421T135528
CREATED:20250704T111141Z
LAST-MODIFIED:20250704T111141Z
UID:10001551-1751374800-1751382000@trekanten.info
SUMMARY:Krea med Tine hver tirsdag
DESCRIPTION:Hver Tirsdag klokken 13 – 15\, holder Tine og Mowita Kreativ workshop i Trekanten Mini -Makerspace. Det er lige overfor biblioteket.\nAlle er velkomne\, og det er gratis at deltage.\nDu kan vælge at arbejde sammen med andre\, eller i fred og ro for dig selv i “Solsikkehjørnet”.\nDer er masser af materialer på stedet\, det eneste du skal gøre er at dukke op.
URL:https://trekanten.info/event/kreativ-workshop-med-tina-og-mowita-2/2025-07-01/
LOCATION:Trekanten
CATEGORIES:Workshop
ATTACH;FMTTYPE=image/jpeg:https://trekanten.info/wp-content/uploads/2025/07/Tine-2-scaled1.jpg
ORGANIZER;CN="| Trekanten%2C bibliotek & kulturhus |":MAILTO:trekanten@aalborg.dk
END:VEVENT
BEGIN:VEVENT
DTSTART;TZID=UTC:20250626T164500
DTEND;TZID=UTC:20250626T200000
DTSTAMP:20260421T135528
CREATED:20250328T121057Z
LAST-MODIFIED:20250702T125611Z
UID:10001099-1750956300-1750968000@trekanten.info
SUMMARY:Trylleskole - lær at trylle
DESCRIPTION:Lokale 4Yderligere oplysninger Nordjysk Trylleklub:https://trylleklubben.dk/\nPå et par timer kan du lære et simpelt trick eller to og være klar til at imponere venner\, familie og kollegaer. Men hvis du vil fordybe dig\, er der tricks og teknikker\, det kan tage måneder eller endda år at lære. Selv når du mestre teknikken i et trick\, kan der være lang vej til en god og underholdende præsentation for et publikum. Tricket er ”kun” teknik; den bærende del er entertainment (teater og skuespil).\nNordjysk Trylleklub er både for dig\, der har trylleri som hobby\, og for dig\, der er professionel.
URL:https://trekanten.info/event/trylleskole-2/2025-06-26/
LOCATION:Trekanten
CATEGORIES:Andet,For Børn,Workshop
ATTACH;FMTTYPE=image/jpeg:https://trekanten.info/wp-content/uploads/2025/02/Trylleskole-vinterferie-14.jpg
ORGANIZER;CN="| Trekanten%2C bibliotek & kulturhus |":MAILTO:trekanten@aalborg.dk
END:VEVENT
BEGIN:VEVENT
DTSTART;TZID=UTC:20250619T190000
DTEND;TZID=UTC:20250619T210000
DTSTAMP:20260421T135528
CREATED:20250704T122455Z
LAST-MODIFIED:20250704T122455Z
UID:10002397-1750359600-1750366800@trekanten.info
SUMMARY:SangCafè med Sundhedsformidlerne
DESCRIPTION:Sundhedsformidlerne fortsætter succesen med sang cafe ind i det nye år – og du er inviteret \nDet er gratis at deltage og for alle der har lyst til at synge sammen med andre 
URL:https://trekanten.info/event/sangcafe-med-sundhedsformidlerne-2/
LOCATION:Trekanten
CATEGORIES:Andet,Musik
ATTACH;FMTTYPE=image/jpeg:https://trekanten.info/wp-content/uploads/2025/02/Sang-Cafe-med-Sundhedsformidlerne.jpg
END:VEVENT
BEGIN:VEVENT
DTSTART;TZID=UTC:20250611T153000
DTEND;TZID=UTC:20250611T210000
DTSTAMP:20260421T135528
CREATED:20250416T151717Z
LAST-MODIFIED:20250424T115810Z
UID:10001509-1749655800-1749675600@trekanten.info
SUMMARY:Vi BRODERER sammen
DESCRIPTION:Broderifællesskabet er for alle – uanset om du har gang i det helt store kreative projekt\, eller om du er helt ny med nål og tråd.\nDet er gratis og du skal ikke melde dig til. \nDet handler ikke om\, om man broderer grimt eller pænt. Og det har ingen betydning\, om du broderer for at lappe dit tøj\, eller om du broderer på et billede. \nDet handler derimod om at hygge sig\, inspirere og hjælpe hinanden – med afsæt i broderi. \nDu kan selv medbringe broderigrej – men vi har også et lille depot af materialer til at starte på. \nVi mødes i Mini-makerspace ved biblioteket den anden onsdag i måneden. \n  \nVi har lokalet fra 15.30-21.00.   \nSe evt. her:  Vi broderer sammen – på Trekanten | Aalborg Bibliotekerne
URL:https://trekanten.info/event/vi-broderer-sammen-anden-onsdag-i-maaneden-2/2025-06-11/
LOCATION:Trekanten
CATEGORIES:Workshop
ATTACH;FMTTYPE=image/jpeg:https://trekanten.info/wp-content/uploads/2025/04/broderi3.jpg
ORGANIZER;CN="| Trekanten%2C bibliotek & kulturhus |":MAILTO:trekanten@aalborg.dk
END:VEVENT
BEGIN:VEVENT
DTSTART;TZID=UTC:20250610T164500
DTEND;TZID=UTC:20250610T200000
DTSTAMP:20260421T135528
CREATED:20250328T121057Z
LAST-MODIFIED:20250702T125611Z
UID:10001098-1749573900-1749585600@trekanten.info
SUMMARY:Trylleskole - lær at trylle
DESCRIPTION:Lokale 4Yderligere oplysninger Nordjysk Trylleklub:https://trylleklubben.dk/\nPå et par timer kan du lære et simpelt trick eller to og være klar til at imponere venner\, familie og kollegaer. Men hvis du vil fordybe dig\, er der tricks og teknikker\, det kan tage måneder eller endda år at lære. Selv når du mestre teknikken i et trick\, kan der være lang vej til en god og underholdende præsentation for et publikum. Tricket er ”kun” teknik; den bærende del er entertainment (teater og skuespil).\nNordjysk Trylleklub er både for dig\, der har trylleri som hobby\, og for dig\, der er professionel.
URL:https://trekanten.info/event/trylleskole-2/2025-06-10/
LOCATION:Trekanten
CATEGORIES:Andet,For Børn,Workshop
ATTACH;FMTTYPE=image/jpeg:https://trekanten.info/wp-content/uploads/2025/02/Trylleskole-vinterferie-14.jpg
ORGANIZER;CN="| Trekanten%2C bibliotek & kulturhus |":MAILTO:trekanten@aalborg.dk
END:VEVENT
BEGIN:VEVENT
DTSTART;TZID=UTC:20250527T164500
DTEND;TZID=UTC:20250527T200000
DTSTAMP:20260421T135528
CREATED:20250328T121057Z
LAST-MODIFIED:20250702T125611Z
UID:10001097-1748364300-1748376000@trekanten.info
SUMMARY:Trylleskole - lær at trylle
DESCRIPTION:Lokale 4Yderligere oplysninger Nordjysk Trylleklub:https://trylleklubben.dk/\nPå et par timer kan du lære et simpelt trick eller to og være klar til at imponere venner\, familie og kollegaer. Men hvis du vil fordybe dig\, er der tricks og teknikker\, det kan tage måneder eller endda år at lære. Selv når du mestre teknikken i et trick\, kan der være lang vej til en god og underholdende præsentation for et publikum. Tricket er ”kun” teknik; den bærende del er entertainment (teater og skuespil).\nNordjysk Trylleklub er både for dig\, der har trylleri som hobby\, og for dig\, der er professionel.
URL:https://trekanten.info/event/trylleskole-2/2025-05-27/
LOCATION:Trekanten
CATEGORIES:Andet,For Børn,Workshop
ATTACH;FMTTYPE=image/jpeg:https://trekanten.info/wp-content/uploads/2025/02/Trylleskole-vinterferie-14.jpg
ORGANIZER;CN="| Trekanten%2C bibliotek & kulturhus |":MAILTO:trekanten@aalborg.dk
END:VEVENT
BEGIN:VEVENT
DTSTART;TZID=UTC:20250514T153000
DTEND;TZID=UTC:20250514T210000
DTSTAMP:20260421T135528
CREATED:20250416T151717Z
LAST-MODIFIED:20250424T115810Z
UID:10001508-1747236600-1747256400@trekanten.info
SUMMARY:Vi BRODERER sammen
DESCRIPTION:Broderifællesskabet er for alle – uanset om du har gang i det helt store kreative projekt\, eller om du er helt ny med nål og tråd.\nDet er gratis og du skal ikke melde dig til. \nDet handler ikke om\, om man broderer grimt eller pænt. Og det har ingen betydning\, om du broderer for at lappe dit tøj\, eller om du broderer på et billede. \nDet handler derimod om at hygge sig\, inspirere og hjælpe hinanden – med afsæt i broderi. \nDu kan selv medbringe broderigrej – men vi har også et lille depot af materialer til at starte på. \nVi mødes i Mini-makerspace ved biblioteket den anden onsdag i måneden. \n  \nVi har lokalet fra 15.30-21.00.   \nSe evt. her:  Vi broderer sammen – på Trekanten | Aalborg Bibliotekerne
URL:https://trekanten.info/event/vi-broderer-sammen-anden-onsdag-i-maaneden-2/2025-05-14/
LOCATION:Trekanten
CATEGORIES:Workshop
ATTACH;FMTTYPE=image/jpeg:https://trekanten.info/wp-content/uploads/2025/04/broderi3.jpg
ORGANIZER;CN="| Trekanten%2C bibliotek & kulturhus |":MAILTO:trekanten@aalborg.dk
END:VEVENT
BEGIN:VEVENT
DTSTART;TZID=UTC:20250114T130000
DTEND;TZID=UTC:20250408T150000
DTSTAMP:20260421T135528
CREATED:20231204T124253Z
LAST-MODIFIED:20250110T100940Z
UID:10000032-1736859600-1744124400@trekanten.info
SUMMARY:KREATIV WORKSHOP - HVER TIRSDAG
DESCRIPTION:Hver Tirsdag klokken 13 – 15\,  holder Tine og Mowita Kreativ workshop i Trekanten Mini -Makerspace. Det er lige overfor biblioteket.\nAlle er velkomne og det er gratis at deltage. Du kan vælge at arbejde sammen med andre\, eller i fred og ro for dig selv i “Solsikkehjørnet”.\nDer er masser af materialer på stedet\, det eneste du skal gøre er\, at dukke op. \nGratis – ingen tilmelding. 
URL:https://trekanten.info/event/kreativ-aktivitet-hver-loerdag/
LOCATION:Trekanten
CATEGORIES:Workshop
ATTACH;FMTTYPE=image/jpeg:https://trekanten.info/wp-content/uploads/2023/12/Tine-krea-med-tekst-scaled.jpg
ORGANIZER;CN="| Trekanten%2C bibliotek & kulturhus |":MAILTO:trekanten@aalborg.dk
END:VEVENT
END:VCALENDAR